BEGIN:VCALENDAR
VERSION:2.0
PRODID:-//guten-morgen-schoepfung.de - ECPv4.6.4//NONSGML v1.0//EN
CALSCALE:GREGORIAN
METHOD:PUBLISH
X-WR-CALNAME:guten-morgen-schoepfung.de
X-ORIGINAL-URL:https://guten-morgen-schoepfung.de
X-WR-CALDESC:Events for guten-morgen-schoepfung.de
BEGIN:VEVENT
DTSTART;TZID=Europe/Berlin:20180118T190000
DTEND;TZID=Europe/Berlin:20180118T210000
DTSTAMP:20260424T083253
CREATED:20180115T065953Z
LAST-MODIFIED:20180115T065953Z
UID:97-1516302000-1516309200@guten-morgen-schoepfung.de
SUMMARY:Vortrag mit Jan Christensen im CJK
DESCRIPTION:Breklum – „Guten Morgen – aufgeweckt die Schöpfung gestalten“ – so lautet das Jahresmotto des Kirchenkreises\, bei dem die Themen Nachhaltigkeit und Klimaschutz im Mittelpunkt stehen. Ein wichtiger Referenzrahmen der Weltgemeinschaft dafür sind die Nachhaltigkeitsziele der Vereinten Nationen\, in denen erstmals betont wird\, dass auch die Industrieländer ihre Produktions- und Konsummuster ändern müssen. Um die nötigen Konsequenzen für die Bundesrepublik und um den möglichen Beitrag der Kirche geht es in einem Vortragsabend mit anschließender Diskussion im Christian Jensen Kolleg (CJK) Breklum\, den Jan Christensen Umweltbeauftragter der Nordkirche\, am Donnerstag (18.) halten wird. Beginn ist um 19 Uhr\, der Eintritt ist frei. Die Leitung des Abends liegt bei Karsten Wolff\, Ökumenereferent im Evangelischen Regionalzentrum Westküste (ERW) und Friedemann Magaard\, Leiter des CJK. \n
URL:https://guten-morgen-schoepfung.de/event/vortrag-mit-jan-christensen-im-cjk/
LOCATION:Kirchenweg 4-12\, Breklum\, 25821
ATTACH;FMTTYPE=image/jpeg:https://guten-morgen-schoepfung.de/wp-content/uploads/2018/01/csm_jan_christensen_web_b42897effe.jpg
END:VEVENT
END:VCALENDAR