BEGIN:VCALENDAR
VERSION:2.0
PRODID:-//guten-morgen-schoepfung.de - ECPv4.6.4//NONSGML v1.0//EN
CALSCALE:GREGORIAN
METHOD:PUBLISH
X-WR-CALNAME:guten-morgen-schoepfung.de
X-ORIGINAL-URL:https://guten-morgen-schoepfung.de
X-WR-CALDESC:Events for guten-morgen-schoepfung.de
BEGIN:VEVENT
DTSTART;TZID=Europe/Berlin:20180201T190000
DTEND;TZID=Europe/Berlin:20180201T210000
DTSTAMP:20260419T224027
CREATED:20180118T125713Z
LAST-MODIFIED:20180118T125812Z
UID:147-1517511600-1517518800@guten-morgen-schoepfung.de
SUMMARY:Plastikmüll im Meer
DESCRIPTION:Plastikflaschen\, Verpackungen und Fischernetze – seit Jahrzehnten versinken unsere Meere im Müll und ein Ende ist nicht absehbar. Für Meeressäuger und Vögel ist dieser Müll oft eine tödliche Gefahr. Aber auch wir werden über kurz oder lang wieder mit dem Plastik in den Meeren konfrontiert. Das Plastik zerfällt in kleine Teile (Mikro-plastik)\, was dann über die Nahrungskette wieder auf unserem Teller landet. Ein Teil des Problems ist damit offensichtlich\, aber wo kommt der Müll im Meer tatsächlich her\, was für Folgen werden befürchtet und was kann man dagegen tun? \nTermin: 1. Februar 2018\, 19 Uhr im CJK\nReferentin: Dr. Nina Furchheim\, Schutzstation Wattenmeer\, Projekt Meere der Zukunft – ohne Müll\nLeitung: Karsten Wolff (ERW)\nVeranstalter: Ev. Regionalzentrum Westküste\,\nChristian Jensen Kolleg \n
URL:https://guten-morgen-schoepfung.de/event/plastikmuell-im-meer/
LOCATION:Kirchenweg 4-12\, Breklum\, 25821
ATTACH;FMTTYPE=image/jpeg:https://guten-morgen-schoepfung.de/wp-content/uploads/2018/01/MG_6926.jpg
ORGANIZER;CN="Kirchenkreis%20Nordfriesland":MAILTO:sekretariat@erw-breklum.de
END:VEVENT
END:VCALENDAR