BEGIN:VCALENDAR
VERSION:2.0
PRODID:-//guten-morgen-schoepfung.de - ECPv4.6.4//NONSGML v1.0//EN
CALSCALE:GREGORIAN
METHOD:PUBLISH
X-WR-CALNAME:guten-morgen-schoepfung.de
X-ORIGINAL-URL:https://guten-morgen-schoepfung.de
X-WR-CALDESC:Events for guten-morgen-schoepfung.de
BEGIN:VEVENT
DTSTART;TZID=Europe/Berlin:20180228T193000
DTEND;TZID=Europe/Berlin:20180228T210000
DTSTAMP:20260423T101104
CREATED:20180213T124008Z
LAST-MODIFIED:20180213T124008Z
UID:208-1519846200-1519851600@guten-morgen-schoepfung.de
SUMMARY:Plastikmüll im Meer
DESCRIPTION:hat viele Facetten\, einige wollen wir beleuchten.\nIn der Passionszeit 2018 gibt es mittwochabends um 19:30 Uhr in der Diakoniestation Hattstedt\, Kirchenweg 31\, Veranstaltungen dazu.\n•	am 28. Februar steht das Probllem Microplastik im Zentrum \nDiakoniestation! \nKarsten Wolff\, Heike Braren und Jörn Jebsen \n
URL:https://guten-morgen-schoepfung.de/event/plastikmuell-im-meer-4/
LOCATION:Kirchenweg 29\, Hattstedt\, 25856
END:VEVENT
END:VCALENDAR