BEGIN:VCALENDAR
VERSION:2.0
PRODID:-//guten-morgen-schoepfung.de - ECPv4.6.4//NONSGML v1.0//EN
CALSCALE:GREGORIAN
METHOD:PUBLISH
X-WR-CALNAME:guten-morgen-schoepfung.de
X-ORIGINAL-URL:https://guten-morgen-schoepfung.de
X-WR-CALDESC:Events for guten-morgen-schoepfung.de
BEGIN:VEVENT
DTSTART;TZID=Europe/Berlin:20171204T180000
DTEND;TZID=Europe/Berlin:20171204T200000
DTSTAMP:20260420T015901
CREATED:20171110T070146Z
LAST-MODIFIED:20171110T070323Z
UID:79-1512410400-1512417600@guten-morgen-schoepfung.de
SUMMARY:Jahresempfang
DESCRIPTION:
URL:https://guten-morgen-schoepfung.de/event/jahresempfang/
LOCATION:Kirchenweg 4-12\, Breklum\, 25821
ORGANIZER;CN="Kirchenkreis%20Nordfriesland":MAILTO:sekretariat@erw-breklum.de
END:VEVENT
END:VCALENDAR