BEGIN:VCALENDAR
VERSION:2.0
PRODID:-//guten-morgen-schoepfung.de - ECPv4.6.4//NONSGML v1.0//EN
CALSCALE:GREGORIAN
METHOD:PUBLISH
X-WR-CALNAME:guten-morgen-schoepfung.de
X-ORIGINAL-URL:https://guten-morgen-schoepfung.de
X-WR-CALDESC:Events for guten-morgen-schoepfung.de
BEGIN:VEVENT
DTSTART;TZID=Europe/Berlin:20180601T180000
DTEND;TZID=Europe/Berlin:20180601T210000
DTSTAMP:20260419T210825
CREATED:20180115T071832Z
LAST-MODIFIED:20180115T071832Z
UID:107-1527876000-1527886800@guten-morgen-schoepfung.de
SUMMARY:Die Schöpfung - geschenkt!
DESCRIPTION:Kostenlos ist uns Gottes Schöpfung immer wieder neu gegeben. In jedem Jahr zukunftsweisend\, belebend und nährend. Was bringt mir das? \nMit Elementen des Bibliodramas nähern wir uns einem der bekanntesten Texte der Bibel\, dem Schöpfungsbericht in Genesis 1-2. Mit leichten Körperübungen\, im persönlichen Austausch\, im kreativen Umgang mit den biblischen Worten und mit einfachen sinnlichen Wahrnehmungen spüren wir der Bedeutung der jüdisch-christlichen Überlieferung für uns heute nach.\nDabei kommen der biblische Text und die eigenen Gedanken\, Fragen und Gefühle in Kontakt miteinander. Vorkenntnisse sind nicht erforderlich. Wir freuen uns auf Sie! \nmit Julika Koch\, Referentin für Friedensbildung der Nordkirche\, Bibliodramaleiterin (GfB)\,\nMarianne Riecke\, Diplom-Sozialpädagogin\, Bibliodramaleiterin (GfB)\nBritta Jordan \nAnmeldeschluss: 29. Mai \n
URL:https://guten-morgen-schoepfung.de/event/die-schoepfung-geschenkt/
LOCATION:Alter Kirchenweg 2\, Husum\, 25813
ATTACH;FMTTYPE=image/jpeg:https://guten-morgen-schoepfung.de/wp-content/uploads/2018/01/mriecke-4.14-257.jpg
ORGANIZER;CN="Ev.%20Frauenarbeit%20im%20KKNF":MAILTO:sekretariat@erw-breklum.de
END:VEVENT
END:VCALENDAR